BEGIN:VCALENDAR
VERSION:2.0
PRODID:-//Miejski Dom Kultury w Makowie Mazowieckim - ECPv6.15.20//NONSGML v1.0//EN
CALSCALE:GREGORIAN
METHOD:PUBLISH
X-ORIGINAL-URL:https://mdkmakow.pl
X-WR-CALDESC:Wydarzenia dla Miejski Dom Kultury w Makowie Mazowieckim
REFRESH-INTERVAL;VALUE=DURATION:PT1H
X-Robots-Tag:noindex
X-PUBLISHED-TTL:PT1H
BEGIN:VTIMEZONE
TZID:Europe/Warsaw
BEGIN:DAYLIGHT
TZOFFSETFROM:+0100
TZOFFSETTO:+0200
TZNAME:CEST
DTSTART:20250330T010000
END:DAYLIGHT
BEGIN:STANDARD
TZOFFSETFROM:+0200
TZOFFSETTO:+0100
TZNAME:CET
DTSTART:20251026T010000
END:STANDARD
BEGIN:DAYLIGHT
TZOFFSETFROM:+0100
TZOFFSETTO:+0200
TZNAME:CEST
DTSTART:20260329T010000
END:DAYLIGHT
BEGIN:STANDARD
TZOFFSETFROM:+0200
TZOFFSETTO:+0100
TZNAME:CET
DTSTART:20261025T010000
END:STANDARD
BEGIN:DAYLIGHT
TZOFFSETFROM:+0100
TZOFFSETTO:+0200
TZNAME:CEST
DTSTART:20270328T010000
END:DAYLIGHT
BEGIN:STANDARD
TZOFFSETFROM:+0200
TZOFFSETTO:+0100
TZNAME:CET
DTSTART:20271031T010000
END:STANDARD
END:VTIMEZONE
BEGIN:VEVENT
DTSTART;TZID=Europe/Warsaw:20260115T190000
DTEND;TZID=Europe/Warsaw:20260115T220000
DTSTAMP:20260421T012605
CREATED:20260102T114026Z
LAST-MODIFIED:20260107T114156Z
UID:41545-1768503600-1768514400@mdkmakow.pl
SUMMARY:Lotek//Pacześ - Testy materiałów!
DESCRIPTION:Lotek i Pacześ zapraszają na wyjątkowy wieczór stand-upowy\, podczas którego sprawdzą zupełnie nowe żarty i świeże pomysły. To okazja\, by zobaczyć proces twórczy na żywo – testowanie materiału\, spontaniczne reakcje i improwizacje\, które później mogą stać się częścią większych programów. Jeśli chcesz być świadkiem\, jak rodzi się stand-up\, to wydarzenie jest właśnie dla Ciebie. \n*Zakaz nagrywania występu. \n*Organizator ma prawo wyprosić osoby przeszkadzające w przebiegu wydarzenia. \n*Wydarzenie wyłącznie dla dorosłych. \nBILETY ONLINE
URL:https://mdkmakow.pl/wydarzenie/lotek-paczes-testy-materialow/
END:VEVENT
BEGIN:VEVENT
DTSTART;TZID=Europe/Warsaw:20260125T103000
DTEND;TZID=Europe/Warsaw:20260125T200000
DTSTAMP:20260421T012605
CREATED:20260120T141730Z
LAST-MODIFIED:20260120T141730Z
UID:41573-1769337000-1769371200@mdkmakow.pl
SUMMARY:34. FINAŁ WOŚP
DESCRIPTION:
URL:https://mdkmakow.pl/wydarzenie/34-final-wosp/
END:VEVENT
BEGIN:VEVENT
DTSTART;TZID=Europe/Warsaw:20260130T180000
DTEND;TZID=Europe/Warsaw:20260130T203000
DTSTAMP:20260421T012605
CREATED:20260126T195510Z
LAST-MODIFIED:20260127T153233Z
UID:41575-1769796000-1769805000@mdkmakow.pl
SUMMARY:KONCERT: STAN KOMPLETNEJ NIEWIEDZY & FORMACJA
DESCRIPTION:
URL:https://mdkmakow.pl/wydarzenie/koncert-stan-kompletnej-niewiedzy-formacja/
END:VEVENT
END:VCALENDAR