BEGIN:VCALENDAR
VERSION:2.0
PRODID:-//Miejski Dom Kultury w Makowie Mazowieckim - ECPv6.15.20//NONSGML v1.0//EN
CALSCALE:GREGORIAN
METHOD:PUBLISH
X-ORIGINAL-URL:https://mdkmakow.pl
X-WR-CALDESC:Wydarzenia dla Miejski Dom Kultury w Makowie Mazowieckim
REFRESH-INTERVAL;VALUE=DURATION:PT1H
X-Robots-Tag:noindex
X-PUBLISHED-TTL:PT1H
BEGIN:VTIMEZONE
TZID:Europe/Warsaw
BEGIN:DAYLIGHT
TZOFFSETFROM:+0100
TZOFFSETTO:+0200
TZNAME:CEST
DTSTART:20240331T010000
END:DAYLIGHT
BEGIN:STANDARD
TZOFFSETFROM:+0200
TZOFFSETTO:+0100
TZNAME:CET
DTSTART:20241027T010000
END:STANDARD
BEGIN:DAYLIGHT
TZOFFSETFROM:+0100
TZOFFSETTO:+0200
TZNAME:CEST
DTSTART:20250330T010000
END:DAYLIGHT
BEGIN:STANDARD
TZOFFSETFROM:+0200
TZOFFSETTO:+0100
TZNAME:CET
DTSTART:20251026T010000
END:STANDARD
BEGIN:DAYLIGHT
TZOFFSETFROM:+0100
TZOFFSETTO:+0200
TZNAME:CEST
DTSTART:20260329T010000
END:DAYLIGHT
BEGIN:STANDARD
TZOFFSETFROM:+0200
TZOFFSETTO:+0100
TZNAME:CET
DTSTART:20261025T010000
END:STANDARD
END:VTIMEZONE
BEGIN:VEVENT
DTSTART;TZID=Europe/Warsaw:20250302T170000
DTEND;TZID=Europe/Warsaw:20250302T190000
DTSTAMP:20260421T182013
CREATED:20250121T143129Z
LAST-MODIFIED:20250121T143429Z
UID:41020-1740934800-1740942000@mdkmakow.pl
SUMMARY:Kabaret Trzecia Strona Medalu w programie ZUCHWAŁOŚĆ RZECZY MARNYCH
DESCRIPTION:O programie:\n\n\nTym razem odsłonimy trzecią stronę medalu sytuacji z którymi utożsamić może się każdy z nas\, które wywołują emocje\, spędzają sen z powiek\, podnoszą ciśnienie\, gotują wodę w czajniku ale ostatecznie… no właśnie! Za rok będziemy się z tego śmiać! Po co czekać rok? Pośmiejemy się już teraz! Humor nie do opisania a do doświadczenia na własnej skórze. Skierowany bezpośrednio w stronę widza i nastawiony na interakcje z publicznością.\nSpodziewaj się niespodziewanego! Czekają na Ciebie premierowe numery\, piosenki\, skecze z Ryjka 2023 (wygranego przez nas po raz drugi\, decyzją publiczności Konkursu Na Boczku Rybnickiej Jesieni Kabaretowej) a i znajdzie się miejsce na HITA z ostatniego programu!\n\n\nWszystko to okraszone muzyką na żywo na akordeonie! Nie może Cię zabraknąć! Bez Ciebie nie gramy! Chyba\, że zamiast Ciebie przyjdzie ktoś inny!\n\n\nNa scenie niezmiennie: Marek Gajewski\, Wojciech Smyk\, Łukasz Adamus i Szczepan Szubzda!\n\n\nBilety w cenie 80 zł dostępne w kasie Kina Mazowsze oraz online:\n– BiletyNa: https://bilety.io/6ZSmV\n– KupBilecik: https://kbq.pl/152282\n– Zamówienia grupowe: 733 877 802
URL:https://mdkmakow.pl/wydarzenie/kabaret-trzecia-strona-medalu/
LOCATION:Sala widowiskowo-kinowa\, Moniuszki 2\, Maków Mazowiecki\, 06-200\, Poland
ATTACH;FMTTYPE=image/jpeg:https://mdkmakow.pl/wp-content/uploads/2025/01/TSM-1.jpg
END:VEVENT
BEGIN:VEVENT
DTSTART;TZID=Europe/Warsaw:20250306T190000
DTEND;TZID=Europe/Warsaw:20250306T210000
DTSTAMP:20260421T182013
CREATED:20240719T114440Z
LAST-MODIFIED:20250226T161043Z
UID:40772-1741287600-1741294800@mdkmakow.pl
SUMMARY:**SPEKTAKL ODWOŁANY!** „MIŁOSNA PUŁAPKA”
DESCRIPTION:
URL:https://mdkmakow.pl/wydarzenie/milosna-pulapka-spektakl/
ATTACH;FMTTYPE=image/jpeg:https://mdkmakow.pl/wp-content/uploads/2024/07/MILOSNA-PULAPKA-2.jpg
END:VEVENT
BEGIN:VEVENT
DTSTART;TZID=Europe/Warsaw:20250323T180000
DTEND;TZID=Europe/Warsaw:20250323T193000
DTSTAMP:20260421T182013
CREATED:20250226T161301Z
LAST-MODIFIED:20250303T113617Z
UID:41069-1742752800-1742758200@mdkmakow.pl
SUMMARY:Koncert „DURNA MIŁOŚĆ”
DESCRIPTION:Zapraszamy serdecznie na muzyczną podróż przez różne oblicza miłości. Podczas koncertu „Durna miłość” usłyszeć będzie można nieśmiertelne klasyki\, między innymi utwory Maanamu czy też Krzysztofa Krawczyka\, w niespotykanych\, oryginalnych aranżacjach. Durna miłość – bez niej nic\, z nią wszystko!\n\nBilety w cenie 30 zł będą dostępne od 4 marca w kasie Kina Mazowsze oraz na Bilety24.pl
URL:https://mdkmakow.pl/wydarzenie/koncert-durna-milosc/
ATTACH;FMTTYPE=image/jpeg:https://mdkmakow.pl/wp-content/uploads/2025/02/DURNA-MILOSC-Koncert-1.jpg
END:VEVENT
END:VCALENDAR