BEGIN:VCALENDAR
VERSION:2.0
PRODID:-//Miejski Dom Kultury w Makowie Mazowieckim - ECPv6.15.20//NONSGML v1.0//EN
CALSCALE:GREGORIAN
METHOD:PUBLISH
X-ORIGINAL-URL:https://mdkmakow.pl
X-WR-CALDESC:Wydarzenia dla Miejski Dom Kultury w Makowie Mazowieckim
REFRESH-INTERVAL;VALUE=DURATION:PT1H
X-Robots-Tag:noindex
X-PUBLISHED-TTL:PT1H
BEGIN:VTIMEZONE
TZID:Europe/Warsaw
BEGIN:DAYLIGHT
TZOFFSETFROM:+0100
TZOFFSETTO:+0200
TZNAME:CEST
DTSTART:20230326T010000
END:DAYLIGHT
BEGIN:STANDARD
TZOFFSETFROM:+0200
TZOFFSETTO:+0100
TZNAME:CET
DTSTART:20231029T010000
END:STANDARD
BEGIN:DAYLIGHT
TZOFFSETFROM:+0100
TZOFFSETTO:+0200
TZNAME:CEST
DTSTART:20240331T010000
END:DAYLIGHT
BEGIN:STANDARD
TZOFFSETFROM:+0200
TZOFFSETTO:+0100
TZNAME:CET
DTSTART:20241027T010000
END:STANDARD
BEGIN:DAYLIGHT
TZOFFSETFROM:+0100
TZOFFSETTO:+0200
TZNAME:CEST
DTSTART:20250330T010000
END:DAYLIGHT
BEGIN:STANDARD
TZOFFSETFROM:+0200
TZOFFSETTO:+0100
TZNAME:CET
DTSTART:20251026T010000
END:STANDARD
END:VTIMEZONE
BEGIN:VEVENT
DTSTART;TZID=Europe/Warsaw:20240313T170000
DTEND;TZID=Europe/Warsaw:20240313T230000
DTSTAMP:20260422T132717
CREATED:20240220T135025Z
LAST-MODIFIED:20240220T140304Z
UID:40508-1710349200-1710370800@mdkmakow.pl
SUMMARY:Wyjazd na spektakl SIOSTRUNIE do Teatru Kwadrat
DESCRIPTION:
URL:https://mdkmakow.pl/wydarzenie/wyjazd-na-spektakl-siostrunie-do-teatru-kwadrat/
END:VEVENT
BEGIN:VEVENT
DTSTART;TZID=Europe/Warsaw:20240314T180000
DTEND;TZID=Europe/Warsaw:20240314T194000
DTSTAMP:20260422T132717
CREATED:20240214T104500Z
LAST-MODIFIED:20240214T104617Z
UID:40477-1710439200-1710445200@mdkmakow.pl
SUMMARY:KABARET ROZUMISZ - VULGARIS OBSTRUKTIS
DESCRIPTION:
URL:https://mdkmakow.pl/wydarzenie/kabaret-rozumisz-vulgaris-obstruktis/
END:VEVENT
BEGIN:VEVENT
DTSTART;TZID=Europe/Warsaw:20240319T090000
DTEND;TZID=Europe/Warsaw:20240319T143000
DTSTAMP:20260422T132717
CREATED:20240308T112734Z
LAST-MODIFIED:20240308T112734Z
UID:40547-1710838800-1710858600@mdkmakow.pl
SUMMARY:47. Konkurs Recytatorski WARSZAWSKA SYRENKA - Eliminacje powiatowe
DESCRIPTION:
URL:https://mdkmakow.pl/wydarzenie/47-konkurs-recytatorski-warszawska-syrenka-eliminacje-powiatowe/
END:VEVENT
BEGIN:VEVENT
DTSTART;TZID=Europe/Warsaw:20240321T180000
DTEND;TZID=Europe/Warsaw:20240321T193000
DTSTAMP:20260422T132717
CREATED:20240305T140744Z
LAST-MODIFIED:20240305T140744Z
UID:40541-1711044000-1711049400@mdkmakow.pl
SUMMARY:Teatr Pod Dębem - OSTATNIA WOLA
DESCRIPTION:
URL:https://mdkmakow.pl/wydarzenie/teatr-pod-debem-ostatnia-wola/
END:VEVENT
END:VCALENDAR