BEGIN:VCALENDAR
VERSION:2.0
PRODID:-//Miejski Dom Kultury w Makowie Mazowieckim - ECPv6.15.20//NONSGML v1.0//EN
CALSCALE:GREGORIAN
METHOD:PUBLISH
X-WR-CALNAME:Miejski Dom Kultury w Makowie Mazowieckim
X-ORIGINAL-URL:https://mdkmakow.pl
X-WR-CALDESC:Wydarzenia dla Miejski Dom Kultury w Makowie Mazowieckim
REFRESH-INTERVAL;VALUE=DURATION:PT1H
X-Robots-Tag:noindex
X-PUBLISHED-TTL:PT1H
BEGIN:VTIMEZONE
TZID:Europe/Warsaw
BEGIN:DAYLIGHT
TZOFFSETFROM:+0100
TZOFFSETTO:+0200
TZNAME:CEST
DTSTART:20250330T010000
END:DAYLIGHT
BEGIN:STANDARD
TZOFFSETFROM:+0200
TZOFFSETTO:+0100
TZNAME:CET
DTSTART:20251026T010000
END:STANDARD
BEGIN:DAYLIGHT
TZOFFSETFROM:+0100
TZOFFSETTO:+0200
TZNAME:CEST
DTSTART:20260329T010000
END:DAYLIGHT
BEGIN:STANDARD
TZOFFSETFROM:+0200
TZOFFSETTO:+0100
TZNAME:CET
DTSTART:20261025T010000
END:STANDARD
BEGIN:DAYLIGHT
TZOFFSETFROM:+0100
TZOFFSETTO:+0200
TZNAME:CEST
DTSTART:20270328T010000
END:DAYLIGHT
BEGIN:STANDARD
TZOFFSETFROM:+0200
TZOFFSETTO:+0100
TZNAME:CET
DTSTART:20271031T010000
END:STANDARD
END:VTIMEZONE
BEGIN:VEVENT
DTSTART;TZID=Europe/Warsaw:20261024T150000
DTEND;TZID=Europe/Warsaw:20261024T163000
DTSTAMP:20260421T031343
CREATED:20260413T103412Z
LAST-MODIFIED:20260413T103412Z
UID:41667-1792854000-1792859400@mdkmakow.pl
SUMMARY:Kabaret Trzecia Strona Medalu - KRYZYS ZŁOTEGO WIEKU
DESCRIPTION:PREMIERA! Nowy program „Kryzys złotego wieku”\n\n Bilety: 90 zł BiletyNa: https://bilety.io/4KEgb KupBilecik: https://kbq.pl/194776 KabBilety: (wkrótce) Zamówienia grupowe: tel. 517 801 487 lub biuro@ktsm.pl Stacjonarnie: niedostępne\n\nCzyli spojrzenie z trzeciej strony na „złote czasy”\, w których żyjemy. Bo przecież żyjemy w najlepszych czasach wszech czasów! Ale dopiero gdy przychodzi odpływ\, widać\, kto bez gaci pływał. A odpływ przychodzi w najmniej oczekiwanym momencie.\nCzy w tych czasach rzeczywiście nie wszystko złoto\, co się świeci? Czy może – złoto dla zuchwałych? Czy to te czasy tworzą kryzysowe sytuacje\, czy to my tworzymy je niezależnie od czasów?\nWłaśnie teraz odsłaniamy trzecią stronę medalu „złotego wieku”! Nie czekaj na lepszy czas! Bardziej złote nie będzie! Przyjdź i śmiej się aż do kryzysu mięśni brzucha z podbramkowych sytuacji naszych czasów! Humor nie do opisania\, a do doświadczenia na własnej skórze. Skierowany bezpośrednio w stronę widza i nastawiony na interakcje z publicznością. Spodziewaj się niespodziewanego!\nJak zawsze\, czekają na Ciebie premierowe skecze\, a i na hita znajdzie się miejsce! Wszystko to\, jak zawsze\, okraszone muzyką na żywo – na akordeonie! \nNa scenie niezmiennie: Marek Gajewski\, Wojciech Smyk\, Łukasz Adamus i Szczepan Szubzda!\nNie może Cię zabraknąć! Bez ciebie nie gramy!Chyba\, że zamiast Ciebie przyjdzie ktoś inny!\n\n Bilety: 90 zł BiletyNa: https://bilety.io/4KEgb KupBilecik: https://kbq.pl/194776 KabBilety: (wkrótce) Zamówienia grupowe: tel. 517 801 487 lub biuro@ktsm.pl Stacjonarnie: niedostępne\n\nKabaret Trzecia Strona Medalu – czterech facetów i grzejnik Takie: kwartetowe trio w duecie a capella!Inteligentni\, przystojni\, zabawni – tylko tego im brakuje.
URL:https://mdkmakow.pl/wydarzenie/kabaret-trzecia-strona-medalu-kryzys-zlotego-wieku/
ATTACH;FMTTYPE=image/jpeg:https://mdkmakow.pl/wp-content/uploads/2026/04/KTSM.jpg
END:VEVENT
END:VCALENDAR